BEGIN:VCALENDAR
VERSION:2.0
PRODID:-//SHKL - ECPv6.15.17.1//NONSGML v1.0//EN
CALSCALE:GREGORIAN
METHOD:PUBLISH
X-ORIGINAL-URL:https://www.shkl.net
X-WR-CALDESC:Tapahtumat SHKL
REFRESH-INTERVAL;VALUE=DURATION:PT1H
X-Robots-Tag:noindex
X-PUBLISHED-TTL:PT1H
BEGIN:VTIMEZONE
TZID:Europe/Helsinki
BEGIN:DAYLIGHT
TZOFFSETFROM:+0200
TZOFFSETTO:+0300
TZNAME:EEST
DTSTART:20250330T010000
END:DAYLIGHT
BEGIN:STANDARD
TZOFFSETFROM:+0300
TZOFFSETTO:+0200
TZNAME:EET
DTSTART:20251026T010000
END:STANDARD
BEGIN:DAYLIGHT
TZOFFSETFROM:+0200
TZOFFSETTO:+0300
TZNAME:EEST
DTSTART:20260329T010000
END:DAYLIGHT
BEGIN:STANDARD
TZOFFSETFROM:+0300
TZOFFSETTO:+0200
TZNAME:EET
DTSTART:20261025T010000
END:STANDARD
BEGIN:DAYLIGHT
TZOFFSETFROM:+0200
TZOFFSETTO:+0300
TZNAME:EEST
DTSTART:20270328T010000
END:DAYLIGHT
BEGIN:STANDARD
TZOFFSETFROM:+0300
TZOFFSETTO:+0200
TZNAME:EET
DTSTART:20271031T010000
END:STANDARD
END:VTIMEZONE
BEGIN:VEVENT
DTSTART;VALUE=DATE:20260425
DTEND;VALUE=DATE:20260426
DTSTAMP:20260425T183149
CREATED:20260423T071658Z
LAST-MODIFIED:20260423T071658Z
UID:122808-1777075200-1777161599@www.shkl.net
SUMMARY:Pohjanmaan Hevosenomistajat ry esittäytyy raveissa\, Seinäjoki
DESCRIPTION:Yhdistyksen edustajat kiertelevät varikkoalueella ja ovat tavattavissa ravien aikana. Tulethan jutulle keskustelemaan hevosenomistajuudesta ja kuulemaan yhdistyksen toiminnasta!
URL:https://www.shkl.net/tapahtumat/pohjanmaan-hevosenomistajat-ry-esittaytyy-raveissa-seinajoki/
LOCATION:Seinäjoen ravikeskus
CATEGORIES:Tapahtumat
ATTACH;FMTTYPE=image/png:https://www.shkl.net/wp-content/uploads/2022/04/pohjanmaan-hevosenomistajat.png
END:VEVENT
END:VCALENDAR